BEGIN:VCALENDAR
VERSION:2.0
PRODID:Gezeitenkonzerte
CALSCALE:GREGORIAN
BEGIN:VEVENT
LOCATION:VHS Forum Emden\, 
GEO:
SUMMARY:Das Gespür für Wasser 8: Geschichten zwischen Moor und Meer\, Lesung
DESCRIPTION:„Sie würden also schmecken\, ob Ihr Tee mit dem Wasser aus einem Torfbrunnen gebrüht wurde?“ – mit dieser staunenden Frage beginnt eine Begegnung\, die Edmund Ballhaus in seinem Werk festhält und die offenbart\, wie tief die Sinne der Ostfriesen mit ihrem Element verbunden sind. Ballhaus\, Kulturwissenschaftler\, Autor und Dokumentarfilmer\, öffnet in seiner Lesung die Tore zu einer Welt zwischen Moor und Meer. Er erzählt von Traditionen und Eigenheiten\, von einem Lebensgefühl\, das sich aus der Nähe zum Wasser speist und das die Küstenbewohner seit Jahrhunderten prägt. Historische Abbildungen und aktuelle Aufnahmen verweben sich mit seinen Worten zu einem eindrucksvollen Panorama\, das die geheimnisvolle Verbindung der Menschen zum Wasser sichtbar macht. Die Gäste erwartet eine lebendige Lesung\, die überraschende Einblicke schenkt\, unterhaltsame Anekdoten entfaltet und eindrucksvolle Bilder hervorruft – klug\, kulturhistorisch spannend und erfüllt von der Atmosphäre Ostfrieslands. Edmund Ballhaus ist eine Stimme von Rang: Für seine elfteilige Fernsehserie „Ostfrieslandsaga“ wurde ihm das Indigenat verliehen\, eine Auszeichnung\, die einer ostfriesischen Ehrenbürgerschaft gleichkommt. Mit „Das Gespür für Wasser“ hat er ein Projekt geschaffen\, das nicht nur Geschichten erzählt\, sondern auch ein Dank ist – an die Menschen Ostfrieslands\, die ihn auf seinen Wegen in wunderbarer Weise begleitet haben. Im Anschluss an die...
DTSTART:20261112T173000Z
DTEND:20261112T190000Z
URL;VALUE=URI:https://kultur.ostfriesischelandschaft.de/veranstaltung/das-gespuer-fuer-wasser-8-geschichten-zwischen-moor-und-meer/
DTSTAMP:20260425T140714Z
UID:69ecca92e17fd
END:VEVENT
END:VCALENDAR